BEGIN:VCALENDAR
VERSION:2.0
PRODID:-//ChamberMaster//Event Calendar 2.0//EN
METHOD:PUBLISH
X-PUBLISHED-TTL:P3D
REFRESH-INTERVAL:P3D
CALSCALE:GREGORIAN
BEGIN:VEVENT
DTSTART:20260425T003000Z
DTEND:20260425T020000Z
X-MICROSOFT-CDO-ALLDAYEVENT:FALSE
SUMMARY:Bioblitz: Nature Challenge
DESCRIPTION:Help collect data for the 2026 City Nature Challenge! Learn to identify local plants and animals with iNaturalist. \n\n\n\nMeet us at the entrance of the Mammoth Lakes Library on Friday\, April 24 at 5:30.  Bring your own device with the iNaturalist app if possible. \n\n\n\nQuestions? Contact Richard Rachman (mrrachma)@mail.com)
X-ALT-DESC;FMTTYPE=text/html:<span style="font-family:verdana"><span style="font-size:14px">Help collect data for the 2026 City Nature Challenge! Learn to identify local plants and animals with iNaturalist.&nbsp\;<br />\n<br />\nMeet us at the entrance of the Mammoth Lakes Library on Friday\, April 24 at 5:30.&nbsp\; Bring your own device with the iNaturalist app if possible.&nbsp\;<br />\n<br />\nQuestions? Contact Richard Rachman (mrrachma)@mail.com)</span></span>
LOCATION:Mammoth Lakes Library
UID:e.2291.12780
SEQUENCE:3
DTSTAMP:20260421T140214Z
URL:https://business.mammothlakeschamber.org/events/details/bioblitz-nature-challenge-12780
END:VEVENT

END:VCALENDAR
