BEGIN:VCALENDAR
VERSION:2.0
PRODID:-//ChamberMaster//Event Calendar 2.0//EN
METHOD:PUBLISH
X-PUBLISHED-TTL:P3D
REFRESH-INTERVAL:P3D
CALSCALE:GREGORIAN
BEGIN:VEVENT
DTSTART:20180926T000000Z
DTEND:20180926T020000Z
X-MICROSOFT-CDO-ALLDAYEVENT:FALSE
SUMMARY:Business After Hours with Volunteer Eastern Sierra
DESCRIPTION:Join us for our September Business After Hours hosted by Volunteer Eastern Sierra upstairs at Mammoth Brewing Company. Enjoy drinks\, hors d'oeuvres and great conversation with Mammoth Lakes' business and community leaders. Business After Hours is free for Chamber members and one guest and $10 for non-members. No need to RSVP\, just drop in anytime between 5 and 7 p.m.!
X-ALT-DESC;FMTTYPE=text/html:Join us for our September Business After Hours hosted by Volunteer Eastern Sierra upstairs at Mammoth Brewing Company. Enjoy drinks\, hors d&#39\;oeuvres and great conversation with Mammoth Lakes&#39\; business and community leaders. Business After Hours is free for Chamber members and one guest and $10 for non-members. No need to RSVP\, just drop in anytime between 5 and 7 p.m.!
LOCATION:Mammoth Brewing Company - Upstairs 18 Lake Mary Rd. Mammoth Lakes\, CA 93546
UID:e.2291.673
SEQUENCE:3
DTSTAMP:20260424T103627Z
URL:https://business.mammothlakeschamber.org/events/details/business-after-hours-with-volunteer-eastern-sierra-673
END:VEVENT

END:VCALENDAR
