BEGIN:VCALENDAR
VERSION:2.0
PRODID:-//ChamberMaster//Event Calendar 2.0//EN
METHOD:PUBLISH
X-PUBLISHED-TTL:P3D
REFRESH-INTERVAL:P3D
CALSCALE:GREGORIAN
BEGIN:VEVENT
DTSTART:20260502T020000Z
DTEND:20260502T040000Z
X-MICROSOFT-CDO-ALLDAYEVENT:FALSE
SUMMARY:Eastern Sierra Community Choir Spring Concerts
DESCRIPTION:The Eastern Sierra Community Choir along with the Mammoth High School Choir Present our Spring Concert featuring Eric Whitacre selections form ESCC's recent Carnegie Hall Performance.
X-ALT-DESC;FMTTYPE=text/html:The Eastern Sierra Community Choir along with the Mammoth High School Choir Present our Spring Concert featuring Eric Whitacre selections form ESCC&#39\;s recent Carnegie Hall Performance.&nbsp\;
LOCATION:The May 1st concert will be at St. Joseph's Church in Mammoth Lakes.
UID:e.2291.12767
SEQUENCE:3
DTSTAMP:20260419T122501Z
URL:https://business.mammothlakeschamber.org/events/details/eastern-sierra-community-choir-spring-concerts-05-01-2026-12767
END:VEVENT

END:VCALENDAR
