BEGIN:VCALENDAR
VERSION:2.0
PRODID:-//ChamberMaster//Event Calendar 2.0//EN
METHOD:PUBLISH
X-PUBLISHED-TTL:P3D
REFRESH-INTERVAL:P3D
CALSCALE:GREGORIAN
BEGIN:VEVENT
DTSTART;VALUE=DATE:20260427
DTEND;VALUE=DATE:20260501
TRANSP:TRANSPARENT
X-MICROSOFT-CDO-ALLDAYEVENT:TRUE
SUMMARY:InSpire Fitness Outdoor Workouts - 395N. Fitness Tour
DESCRIPTION:The Early Bird Special Ends 4/30! Purchase a 6 or 10 pack and receive an additional free outdoor workout when purchased before 4/30.
X-ALT-DESC;FMTTYPE=text/html:The Early Bird Special Ends 4/30! Purchase a 6 or 10 pack and receive an additional free outdoor workout when purchased before 4/30.
LOCATION:
UID:e.2291.12783
SEQUENCE:3
DTSTAMP:20260425T213506Z
URL:https://business.mammothlakeschamber.org/events/details/inspire-fitness-outdoor-workouts-395n-fitness-tour-12783
END:VEVENT

END:VCALENDAR
