BEGIN:VCALENDAR
VERSION:2.0
PRODID:-//ChamberMaster//Event Calendar 2.0//EN
METHOD:PUBLISH
X-PUBLISHED-TTL:P3D
REFRESH-INTERVAL:P3D
CALSCALE:GREGORIAN
BEGIN:VEVENT
DTSTART:20260506T070000Z
DTEND:20260506T080000Z
X-MICROSOFT-CDO-ALLDAYEVENT:FALSE
SUMMARY:Master Your Money: Financial Literacy Lunch & Learn Series
DESCRIPTION:Take control of your finances with a series of accessible\, bite-sized sessions led by a certified expert. Whether you have burning questions or just want to learn the basics\, join us to build a foundation for lasting financial confidence.
X-ALT-DESC;FMTTYPE=text/html:<span style="font-size:16px"><span style="color:rgb(27\, 28\, 29)\; font-family:google sans text\,sans-serif">Take control of your finances with a series of accessible\, bite-sized sessions led by a certified expert. Whether you have burning questions or just want to learn the basics\, join us to build a foundation for lasting financial confidence.</span></span>
LOCATION:Adult Ed Classroom at the Mammoth Lakes Library
UID:e.2291.11369
SEQUENCE:3
DTSTAMP:20260425T154741Z
URL:https://business.mammothlakeschamber.org/events/details/master-your-money-financial-literacy-lunch-learn-series-03-04-2026-11369
END:VEVENT

END:VCALENDAR
