BEGIN:VCALENDAR
VERSION:2.0
PRODID:-//ChamberMaster//Event Calendar 2.0//EN
METHOD:PUBLISH
X-PUBLISHED-TTL:P3D
REFRESH-INTERVAL:P3D
CALSCALE:GREGORIAN
BEGIN:VEVENT
DTSTART:20181016T190000Z
DTEND:20181016T201500Z
X-MICROSOFT-CDO-ALLDAYEVENT:FALSE
SUMMARY:Power Lunch
DESCRIPTION:Get connected to the business community and learn about RF100 at October's Power Lunch. The Ready for 100% (RF100) Renewable Energy team is bringing renewable energy to Mammoth Lakes. Don Condon and Lynn Boulton will be presenting a brief introduction of Ready for 100 to the Chamber on October 16.\n\n\n\nDon is the president of the Eastern Sierra chapter of the Electric Auto Association and Lynn is the chair of the Range of Light Sierra Club group. Ready for 100 is a Sierra Club endeavor to help cities\, towns and counties become clean energy consumers. Currently over 80 cities in the U.S. have now established bold commitments to move away from dirty fuels and repower their communities with 100% clean\, renewable energy sources like wind and solar. RF100 has developed a list of actions the town can take.\n\n\n\nOne current goal of this drive is to provide charging stations for all electric autos in Mammoth Lakes. Don and Lynn will give a brief review of the current state and potential solutions at this month's Power Lunch.
X-ALT-DESC;FMTTYPE=text/html:Get connected to the business community and learn about RF100 at October&#39\;s Power Lunch. The Ready for 100% (RF100) Renewable Energy team is bringing renewable energy to Mammoth Lakes. Don Condon and Lynn Boulton will be presenting a brief introduction of Ready for 100 to the Chamber on October 16.<br />\n<br />\nDon is the president of the Eastern Sierra chapter of the Electric Auto Association and Lynn is the chair of the Range of Light Sierra Club group. Ready for 100 is a Sierra Club endeavor to help cities\, towns and counties become clean energy consumers. Currently over 80 cities in the U.S. have now established bold commitments to move away from dirty fuels and repower their communities with 100% clean\, renewable energy sources like wind and solar. RF100 has developed a list of actions the town can take.<br />\n<br />\nOne current goal of this drive is to provide charging stations for all electric autos in Mammoth Lakes. Don and Lynn will give a brief review of the current state and potential solutions at this month&#39\;s Power Lunch.
LOCATION:Polo Events Center The Promenade on Main Street (formerly Mammoth Luxury Outlets) 3343 Main Street\, Suite A Mammoth Lakes\, CA 93546
UID:e.2291.677
SEQUENCE:3
DTSTAMP:20260420T124500Z
URL:https://business.mammothlakeschamber.org/events/details/power-lunch-10-16-2018-677
END:VEVENT

END:VCALENDAR
